BEGIN:VCALENDAR
VERSION:2.0
PRODID:-//Palmer Museum - ECPv6.15.17.1//NONSGML v1.0//EN
CALSCALE:GREGORIAN
METHOD:PUBLISH
X-ORIGINAL-URL:https://palmermuseum.org
X-WR-CALDESC:Events for Palmer Museum
REFRESH-INTERVAL;VALUE=DURATION:PT1H
X-Robots-Tag:noindex
X-PUBLISHED-TTL:PT1H
BEGIN:VTIMEZONE
TZID:America/Anchorage
BEGIN:DAYLIGHT
TZOFFSETFROM:-0900
TZOFFSETTO:-0800
TZNAME:AKDT
DTSTART:20210314T110000
END:DAYLIGHT
BEGIN:STANDARD
TZOFFSETFROM:-0800
TZOFFSETTO:-0900
TZNAME:AKST
DTSTART:20211107T100000
END:STANDARD
BEGIN:DAYLIGHT
TZOFFSETFROM:-0900
TZOFFSETTO:-0800
TZNAME:AKDT
DTSTART:20220313T110000
END:DAYLIGHT
BEGIN:STANDARD
TZOFFSETFROM:-0800
TZOFFSETTO:-0900
TZNAME:AKST
DTSTART:20221106T100000
END:STANDARD
BEGIN:DAYLIGHT
TZOFFSETFROM:-0900
TZOFFSETTO:-0800
TZNAME:AKDT
DTSTART:20230312T110000
END:DAYLIGHT
BEGIN:STANDARD
TZOFFSETFROM:-0800
TZOFFSETTO:-0900
TZNAME:AKST
DTSTART:20231105T100000
END:STANDARD
END:VTIMEZONE
BEGIN:VEVENT
DTSTART;TZID=America/Anchorage:20220929T123000
DTEND;TZID=America/Anchorage:20220929T143000
DTSTAMP:20260422T060040
CREATED:20220908T175712Z
LAST-MODIFIED:20220908T175714Z
UID:12096-1664454600-1664461800@palmermuseum.org
SUMMARY:Home School Clay Art Four Day Workshop
DESCRIPTION:Clay is Fun! Homeschooler Welcome! In this class you will learn hand building techniques and armature building techniques. You will make a vehicle and its driver.Sign up now let’s have fun and get messy!! Class will be four sessions. Sept. 20\, 22\, 27\, 29. 12:30 -2:30 Cost is 100.00 Ages 13 and up.
URL:https://palmermuseum.org/event/home-school-clay-art-four-day-workshop-4/
LOCATION:The Art Cafe\, 131 E Blueberry Ave\, Palmer\, 99645\, United States
END:VEVENT
END:VCALENDAR