BEGIN:VCALENDAR
VERSION:2.0
PRODID:-//Palmer Museum - ECPv6.15.17.1//NONSGML v1.0//EN
CALSCALE:GREGORIAN
METHOD:PUBLISH
X-ORIGINAL-URL:https://palmermuseum.org
X-WR-CALDESC:Events for Palmer Museum
REFRESH-INTERVAL;VALUE=DURATION:PT1H
X-Robots-Tag:noindex
X-PUBLISHED-TTL:PT1H
BEGIN:VTIMEZONE
TZID:America/Anchorage
BEGIN:DAYLIGHT
TZOFFSETFROM:-0900
TZOFFSETTO:-0800
TZNAME:AKDT
DTSTART:20210314T110000
END:DAYLIGHT
BEGIN:STANDARD
TZOFFSETFROM:-0800
TZOFFSETTO:-0900
TZNAME:AKST
DTSTART:20211107T100000
END:STANDARD
BEGIN:DAYLIGHT
TZOFFSETFROM:-0900
TZOFFSETTO:-0800
TZNAME:AKDT
DTSTART:20220313T110000
END:DAYLIGHT
BEGIN:STANDARD
TZOFFSETFROM:-0800
TZOFFSETTO:-0900
TZNAME:AKST
DTSTART:20221106T100000
END:STANDARD
BEGIN:DAYLIGHT
TZOFFSETFROM:-0900
TZOFFSETTO:-0800
TZNAME:AKDT
DTSTART:20230312T110000
END:DAYLIGHT
BEGIN:STANDARD
TZOFFSETFROM:-0800
TZOFFSETTO:-0900
TZNAME:AKST
DTSTART:20231105T100000
END:STANDARD
END:VTIMEZONE
BEGIN:VEVENT
DTSTART;TZID=America/Anchorage:20221005T180000
DTEND;TZID=America/Anchorage:20221005T210000
DTSTAMP:20260422T055314
CREATED:20221005T223301Z
LAST-MODIFIED:20221005T223303Z
UID:12318-1664992800-1665003600@palmermuseum.org
SUMMARY:Jerry Wessling live at the Palmer Alehouse Upstairs Lounge
DESCRIPTION:Join us in the Upstairs Lounge for the Palmer Alehouse Unplugged live music series. \n\n\n\nDon’t miss local favorite Jerry Wessling in the Upstairs Lounge Wed Oct 5!
URL:https://palmermuseum.org/event/jerry-wessling-live-at-the-palmer-alehouse-upstairs-lounge/
LOCATION:Palmer Alehouse\, 320 E Dahlia Street\, Palmer\, United States
ORGANIZER;CN="Palmer Alehouse":MAILTO:gm@palmeralehouse.com
END:VEVENT
END:VCALENDAR