BEGIN:VCALENDAR
VERSION:2.0
PRODID:-//Palmer Museum - ECPv6.15.17.1//NONSGML v1.0//EN
CALSCALE:GREGORIAN
METHOD:PUBLISH
X-ORIGINAL-URL:https://palmermuseum.org
X-WR-CALDESC:Events for Palmer Museum
REFRESH-INTERVAL;VALUE=DURATION:PT1H
X-Robots-Tag:noindex
X-PUBLISHED-TTL:PT1H
BEGIN:VTIMEZONE
TZID:America/Anchorage
BEGIN:DAYLIGHT
TZOFFSETFROM:-0900
TZOFFSETTO:-0800
TZNAME:AKDT
DTSTART:20210314T110000
END:DAYLIGHT
BEGIN:STANDARD
TZOFFSETFROM:-0800
TZOFFSETTO:-0900
TZNAME:AKST
DTSTART:20211107T100000
END:STANDARD
BEGIN:DAYLIGHT
TZOFFSETFROM:-0900
TZOFFSETTO:-0800
TZNAME:AKDT
DTSTART:20220313T110000
END:DAYLIGHT
BEGIN:STANDARD
TZOFFSETFROM:-0800
TZOFFSETTO:-0900
TZNAME:AKST
DTSTART:20221106T100000
END:STANDARD
BEGIN:DAYLIGHT
TZOFFSETFROM:-0900
TZOFFSETTO:-0800
TZNAME:AKDT
DTSTART:20230312T110000
END:DAYLIGHT
BEGIN:STANDARD
TZOFFSETFROM:-0800
TZOFFSETTO:-0900
TZNAME:AKST
DTSTART:20231105T100000
END:STANDARD
END:VTIMEZONE
BEGIN:VEVENT
DTSTART;TZID=America/Anchorage:20221001T100000
DTEND;TZID=America/Anchorage:20221001T170000
DTSTAMP:20260424T015555
CREATED:20220908T184424Z
LAST-MODIFIED:20220908T184426Z
UID:12127-1664618400-1664643600@palmermuseum.org
SUMMARY:October ~ 1st Saturday Vendor Market
DESCRIPTION:The October ~ 1st Saturday Vendor Market event is happening soon! Bring your friends\, your family or just yourself to enjoy the 32 local vendors we have gathered together to bring you great offerings of handmade goods\, home decor and more! \n\n\n\nNot only will this event be sure to please\, but we will have a food truck or two to fill your belly as well! \n\n\n\nThis event is held at the Borough community gym which is located at 350 E. Dahlia Ave.\, Palmer\, AK\, 99645. \n\n\n\nEach month\, between October and May this market will be bringing you amazingly talented local vendors.
URL:https://palmermuseum.org/event/october-1st-saturday-vendor-market/
LOCATION:Mat-Su Borough Gym\, 350 E Dahlia Ave\, Palmer\, Alaska\, 99645\, United States
END:VEVENT
BEGIN:VEVENT
DTSTART;TZID=America/Anchorage:20221001T113000
DTEND;TZID=America/Anchorage:20221001T163000
DTSTAMP:20260424T015555
CREATED:20220908T180942Z
LAST-MODIFIED:20220908T180944Z
UID:12109-1664623800-1664641800@palmermuseum.org
SUMMARY:Stained Glass Feather Workshop
DESCRIPTION:This class has been so popular\, space is limited\, sign up NOW! \n\n\n\nCreate your very own stained glass feather!  \n\n\n\nEver wanted to learn the ins and outs of stained glass? In this four hour workshop\, Kara will walk you through cutting and grinding glass\, copper foiling\, and the art of soldering. Pick from two feather patterns\, chose your own glass\, and create a unique take-home to last a lifetime.
URL:https://palmermuseum.org/event/stained-glass-feather-workshop/
LOCATION:The Art Cafe\, 131 E Blueberry Ave\, Palmer\, 99645\, United States
END:VEVENT
BEGIN:VEVENT
DTSTART;TZID=America/Anchorage:20221001T183000
DTEND;TZID=America/Anchorage:20221001T230000
DTSTAMP:20260424T015555
CREATED:20220913T193411Z
LAST-MODIFIED:20220913T193413Z
UID:12207-1664649000-1664665200@palmermuseum.org
SUMMARY:Emo Night @ the Palmer Train Depot
DESCRIPTION:Huycke Entertainment is proud to present “Emo Night at the Palmer Train Depot” on Saturday\, October 1st\, 2022 featuring live performances from Sideways and The Millennial Falcons covering ALL the emo songs that’ll make you laugh\, sing\, and cry! This is a 21+ show as there will be a full bar provided by Koot’s. Get your tickets before we sell out! \n\n\n\nDoors – 6:30pm\, Music starts 7pm.
URL:https://palmermuseum.org/event/emo-night-the-palmer-train-depot/
LOCATION:Palmer Train Depot\, 610 S Valley Way\, Palmer\, Alaska\, 99645
ORGANIZER;CN="Huycke Entertainment":MAILTO:huycke.entertainment@gmail.com
END:VEVENT
BEGIN:VEVENT
DTSTART;TZID=America/Anchorage:20221005T180000
DTEND;TZID=America/Anchorage:20221005T210000
DTSTAMP:20260424T015555
CREATED:20221005T223301Z
LAST-MODIFIED:20221005T223303Z
UID:12318-1664992800-1665003600@palmermuseum.org
SUMMARY:Jerry Wessling live at the Palmer Alehouse Upstairs Lounge
DESCRIPTION:Join us in the Upstairs Lounge for the Palmer Alehouse Unplugged live music series. \n\n\n\nDon’t miss local favorite Jerry Wessling in the Upstairs Lounge Wed Oct 5!
URL:https://palmermuseum.org/event/jerry-wessling-live-at-the-palmer-alehouse-upstairs-lounge/
LOCATION:Palmer Alehouse\, 320 E Dahlia Street\, Palmer\, United States
ORGANIZER;CN="Palmer Alehouse":MAILTO:gm@palmeralehouse.com
END:VEVENT
BEGIN:VEVENT
DTSTART;TZID=America/Anchorage:20221014T190000
DTEND;TZID=America/Anchorage:20221014T210000
DTSTAMP:20260424T015555
CREATED:20221005T215456Z
LAST-MODIFIED:20221005T215458Z
UID:12275-1665774000-1665781200@palmermuseum.org
SUMMARY:Little Shop of Horrors
DESCRIPTION:Please visit the Glenn Massay Theater’s website for details.
URL:https://palmermuseum.org/event/little-shop-of-horrors/
LOCATION:Glenn Massay Theater\, 8295 E College Dr\, Palmer\, Alaska\, 99645\, United States
ORGANIZER;CN="Glenn Massay Theater":MAILTO:glennmassaytheater@gmail.com
END:VEVENT
BEGIN:VEVENT
DTSTART;TZID=America/Anchorage:20221015T140000
DTEND;TZID=America/Anchorage:20221015T160000
DTSTAMP:20260424T015555
CREATED:20221005T215619Z
LAST-MODIFIED:20221005T215621Z
UID:12283-1665842400-1665849600@palmermuseum.org
SUMMARY:Little Shop of Horrors
DESCRIPTION:Please visit the Glenn Massay Theater’s website for details.
URL:https://palmermuseum.org/event/little-shop-of-horrors-2/
LOCATION:Glenn Massay Theater\, 8295 E College Dr\, Palmer\, Alaska\, 99645\, United States
ORGANIZER;CN="Glenn Massay Theater":MAILTO:glennmassaytheater@gmail.com
END:VEVENT
BEGIN:VEVENT
DTSTART;TZID=America/Anchorage:20221015T190000
DTEND;TZID=America/Anchorage:20221015T210000
DTSTAMP:20260424T015555
CREATED:20221005T215711Z
LAST-MODIFIED:20221005T215714Z
UID:12286-1665860400-1665867600@palmermuseum.org
SUMMARY:Little Shop of Horrors
DESCRIPTION:Please visit the Glenn Massay Theater’s website for details.
URL:https://palmermuseum.org/event/little-shop-of-horrors-3/
LOCATION:Glenn Massay Theater\, 8295 E College Dr\, Palmer\, Alaska\, 99645\, United States
ORGANIZER;CN="Glenn Massay Theater":MAILTO:glennmassaytheater@gmail.com
END:VEVENT
BEGIN:VEVENT
DTSTART;TZID=America/Anchorage:20221020T150000
DTEND;TZID=America/Anchorage:20221020T190000
DTSTAMP:20260424T015555
CREATED:20221005T223540Z
LAST-MODIFIED:20221005T223542Z
UID:12321-1666278000-1666292400@palmermuseum.org
SUMMARY:Mat-Su Transportation Fair
DESCRIPTION:Learn about road\, rail\, pedestrian\, air\, and safety projects being planned and designed near you!
URL:https://palmermuseum.org/event/mat-su-transportation-fair/
LOCATION:Curtis Menard Sports Complex\, 1001 S Clapp St\, Wasilla\, Alaska\, 99654\, United States
END:VEVENT
BEGIN:VEVENT
DTSTART;TZID=America/Anchorage:20221021T190000
DTEND;TZID=America/Anchorage:20221021T210000
DTSTAMP:20260424T015555
CREATED:20221005T215828Z
LAST-MODIFIED:20221005T215830Z
UID:12288-1666378800-1666386000@palmermuseum.org
SUMMARY:Little Shop of Horrors
DESCRIPTION:Please visit the Glenn Massay Theater’s website for details.
URL:https://palmermuseum.org/event/little-shop-of-horrors-4/
LOCATION:Glenn Massay Theater\, 8295 E College Dr\, Palmer\, Alaska\, 99645\, United States
ORGANIZER;CN="Glenn Massay Theater":MAILTO:glennmassaytheater@gmail.com
END:VEVENT
BEGIN:VEVENT
DTSTART;TZID=America/Anchorage:20221022T100000
DTEND;TZID=America/Anchorage:20221023T170000
DTSTAMP:20260424T015555
CREATED:20221005T222133Z
LAST-MODIFIED:20221005T222135Z
UID:12311-1666432800-1666544400@palmermuseum.org
SUMMARY:2022 Alaska State Fair Holiday Bazaar
DESCRIPTION:Please Visit the Alaska State Fair’s website for more details.
URL:https://palmermuseum.org/event/2022-alaska-state-fair-holiday-bazaar/
LOCATION:Alaska State Fairgrounds\, 2075 Glenn Highway\, Palmer\, Alaska\, 99645\, United States
END:VEVENT
BEGIN:VEVENT
DTSTART;TZID=America/Anchorage:20221022T140000
DTEND;TZID=America/Anchorage:20221022T160000
DTSTAMP:20260424T015555
CREATED:20221005T220448Z
LAST-MODIFIED:20221005T220450Z
UID:12291-1666447200-1666454400@palmermuseum.org
SUMMARY:Little Shop of Horrors
DESCRIPTION:Please visit the Glenn Massay Theater’s website for details.
URL:https://palmermuseum.org/event/little-shop-of-horrors-5/
LOCATION:Glenn Massay Theater\, 8295 E College Dr\, Palmer\, Alaska\, 99645\, United States
ORGANIZER;CN="Glenn Massay Theater":MAILTO:glennmassaytheater@gmail.com
END:VEVENT
BEGIN:VEVENT
DTSTART;TZID=America/Anchorage:20221022T190000
DTEND;TZID=America/Anchorage:20221022T210000
DTSTAMP:20260424T015555
CREATED:20221005T220539Z
LAST-MODIFIED:20221005T220541Z
UID:12294-1666465200-1666472400@palmermuseum.org
SUMMARY:Little Shop of Horrors
DESCRIPTION:Please visit the Glenn Massay Theater’s website for details.
URL:https://palmermuseum.org/event/little-shop-of-horrors-6/
LOCATION:Glenn Massay Theater\, 8295 E College Dr\, Palmer\, Alaska\, 99645\, United States
ORGANIZER;CN="Glenn Massay Theater":MAILTO:glennmassaytheater@gmail.com
END:VEVENT
BEGIN:VEVENT
DTSTART;TZID=America/Anchorage:20221028T190000
DTEND;TZID=America/Anchorage:20221028T210000
DTSTAMP:20260424T015555
CREATED:20221005T220711Z
LAST-MODIFIED:20221005T220713Z
UID:12296-1666983600-1666990800@palmermuseum.org
SUMMARY:Little Shop of Horros
DESCRIPTION:Please visit the Glenn Massay Theater’s website for details.
URL:https://palmermuseum.org/event/little-shop-of-horros/
LOCATION:Glenn Massay Theater\, 8295 E College Dr\, Palmer\, Alaska\, 99645\, United States
ORGANIZER;CN="Glenn Massay Theater":MAILTO:glennmassaytheater@gmail.com
END:VEVENT
BEGIN:VEVENT
DTSTART;TZID=America/Anchorage:20221029T140000
DTEND;TZID=America/Anchorage:20221029T160000
DTSTAMP:20260424T015555
CREATED:20221005T221115Z
LAST-MODIFIED:20221005T221117Z
UID:12298-1667052000-1667059200@palmermuseum.org
SUMMARY:Little Shop of Horrors
DESCRIPTION:Please visit the Glenn Massay Theater’s website for details.
URL:https://palmermuseum.org/event/little-shop-of-horrors-7/
LOCATION:Glenn Massay Theater\, 8295 E College Dr\, Palmer\, Alaska\, 99645\, United States
ORGANIZER;CN="Glenn Massay Theater":MAILTO:glennmassaytheater@gmail.com
END:VEVENT
BEGIN:VEVENT
DTSTART;TZID=America/Anchorage:20221029T190000
DTEND;TZID=America/Anchorage:20221029T210000
DTSTAMP:20260424T015555
CREATED:20221005T221244Z
LAST-MODIFIED:20221005T221246Z
UID:12301-1667070000-1667077200@palmermuseum.org
SUMMARY:Little Shop of Horrors
DESCRIPTION:Please visit the Glenn Massay Theater’s website for details.
URL:https://palmermuseum.org/event/little-shop-of-horrors-8/
LOCATION:Glenn Massay Theater\, 8295 E College Dr\, Palmer\, Alaska\, 99645\, United States
ORGANIZER;CN="Glenn Massay Theater":MAILTO:glennmassaytheater@gmail.com
END:VEVENT
END:VCALENDAR