BEGIN:VCALENDAR
VERSION:2.0
PRODID:-//Palmer Museum - ECPv6.15.17.1//NONSGML v1.0//EN
CALSCALE:GREGORIAN
METHOD:PUBLISH
X-WR-CALNAME:Palmer Museum
X-ORIGINAL-URL:https://palmermuseum.org
X-WR-CALDESC:Events for Palmer Museum
REFRESH-INTERVAL;VALUE=DURATION:PT1H
X-Robots-Tag:noindex
X-PUBLISHED-TTL:PT1H
BEGIN:VTIMEZONE
TZID:America/Anchorage
BEGIN:DAYLIGHT
TZOFFSETFROM:-0900
TZOFFSETTO:-0800
TZNAME:AKDT
DTSTART:20210314T110000
END:DAYLIGHT
BEGIN:STANDARD
TZOFFSETFROM:-0800
TZOFFSETTO:-0900
TZNAME:AKST
DTSTART:20211107T100000
END:STANDARD
BEGIN:DAYLIGHT
TZOFFSETFROM:-0900
TZOFFSETTO:-0800
TZNAME:AKDT
DTSTART:20220313T110000
END:DAYLIGHT
BEGIN:STANDARD
TZOFFSETFROM:-0800
TZOFFSETTO:-0900
TZNAME:AKST
DTSTART:20221106T100000
END:STANDARD
BEGIN:DAYLIGHT
TZOFFSETFROM:-0900
TZOFFSETTO:-0800
TZNAME:AKDT
DTSTART:20230312T110000
END:DAYLIGHT
BEGIN:STANDARD
TZOFFSETFROM:-0800
TZOFFSETTO:-0900
TZNAME:AKST
DTSTART:20231105T100000
END:STANDARD
END:VTIMEZONE
BEGIN:VEVENT
DTSTART;TZID=America/Anchorage:20221104T190000
DTEND;TZID=America/Anchorage:20221104T210000
DTSTAMP:20260424T015621
CREATED:20221005T221338Z
LAST-MODIFIED:20221005T221341Z
UID:12304-1667588400-1667595600@palmermuseum.org
SUMMARY:Little Shop of Horrors
DESCRIPTION:Please visit the Glenn Massay Theater’s website for details.
URL:https://palmermuseum.org/event/little-shop-of-horrors-9/
LOCATION:Glenn Massay Theater\, 8295 E College Dr\, Palmer\, Alaska\, 99645\, United States
ORGANIZER;CN="Glenn Massay Theater":MAILTO:glennmassaytheater@gmail.com
END:VEVENT
BEGIN:VEVENT
DTSTART;TZID=America/Anchorage:20221105T140000
DTEND;TZID=America/Anchorage:20221105T160000
DTSTAMP:20260424T015621
CREATED:20221005T221446Z
LAST-MODIFIED:20221005T221448Z
UID:12306-1667656800-1667664000@palmermuseum.org
SUMMARY:Little Shop of Horrors
DESCRIPTION:Please visit the Glenn Massay Theater’s website for details.
URL:https://palmermuseum.org/event/little-shop-of-horrors-10/
LOCATION:Glenn Massay Theater\, 8295 E College Dr\, Palmer\, Alaska\, 99645\, United States
ORGANIZER;CN="Glenn Massay Theater":MAILTO:glennmassaytheater@gmail.com
END:VEVENT
BEGIN:VEVENT
DTSTART;TZID=America/Anchorage:20221105T190000
DTEND;TZID=America/Anchorage:20221105T210000
DTSTAMP:20260424T015621
CREATED:20221005T221741Z
LAST-MODIFIED:20221005T221743Z
UID:12308-1667674800-1667682000@palmermuseum.org
SUMMARY:Little Shop of Horrors
DESCRIPTION:Please visit the Glenn Massay Theater’s website for details.
URL:https://palmermuseum.org/event/little-shop-of-horrors-11/
LOCATION:Glenn Massay Theater\, 8295 E College Dr\, Palmer\, Alaska\, 99645\, United States
ORGANIZER;CN="Glenn Massay Theater":MAILTO:glennmassaytheater@gmail.com
END:VEVENT
BEGIN:VEVENT
DTSTART;TZID=America/Anchorage:20221110T090000
DTEND;TZID=America/Anchorage:20221113T170000
DTSTAMP:20260424T015621
CREATED:20220913T185654Z
LAST-MODIFIED:20220913T185656Z
UID:12196-1668070800-1668358800@palmermuseum.org
SUMMARY:Consign49 Fall/Holiday '22 Consignment Sale
DESCRIPTION:It’s time to gear up for sweater weather\, pumpkin spice everything\, and a seasonal refresh! Consign49 is back with our one stop shop for amazing deals on a selection of over 35\,000 clothing\, accessories\, and home decor items! \n\n\n\nJoin us this fall for our 19th semi-annual consignment pop-up\, being held at Raven Hall\, at the Alaska State Fairgrounds\, from November 10th – 13th. \n\n\n\nAdmission and parking are FREE! No tickets or reservation times are required except for during our presales on Wednesday\, November 9th. \n\n\n\nSale Schedule and Hours: \n\n\n\nPresales:Wednesday\, Nov. 9th: (pass required) \n\n\n\nPublic Shopping:Thursday\, Nov. 10th: 9am – 8pmFriday\, Nov. 11th: 9am – 8pmSaturday\, Nov. 12th: 9am – 8pmSunday\, Nov. 13th: 9am – 5pm\, many items HALF PRICE! \n\n\n\nThis upscale resale shopping experience brings you great finds on new and gently used brand name and designer clothing\, accessories\, shoes\, home décor\, furniture\, and so much more! There is truly something for everyone. \n\n\n\nConsign49 is dependent upon our amazing consignors from the local community. Not only do consignors get to earn cash for items sold\, consignors also get to shop before our pop-up opens to the public! \n\n\n\nConsignor registration for the upcoming fall event is now OPEN! Find out more and sign up to consign at www.consign49.com. \n\n\n\nPlease contact us for more info\, either by sending a message via FB or email to info@consign49.com. \n\n\n\nWe hope to see you there!
URL:https://palmermuseum.org/event/consign49-fall-holiday-22-consignment-sale/
LOCATION:Alaska
ORGANIZER;CN="Consign49":MAILTO:info@consign49.com
END:VEVENT
BEGIN:VEVENT
DTSTART;TZID=America/Anchorage:20221118T120000
DTEND;TZID=America/Anchorage:20221120T190000
DTSTAMP:20260424T015621
CREATED:20220908T185554Z
LAST-MODIFIED:20220908T185556Z
UID:12148-1668772800-1668970800@palmermuseum.org
SUMMARY:Alaska Vintage Holiday Market & Food Truck Fest
DESCRIPTION:Come enjoy a fun weekend with friends and family! Shop some of Alaska’s trendiest small businesses\, up-cyclers\, designers\, and vintage collectors! We are also throwing a food truck festival. It’s going to be a blast! We love supporting other local Alaskan businesses and we hope you can come out and support them as well!! \n\n\n\nMeet Santa\, pet a reindeer\, plus shopping from the best local vendors in the state. Shop in Raven & Hoskins buildings with new vendors each weekend. \n\n\n\nFriday\, November 18 12-2 ($10 Weekend pass and early bird admission) \n\n\n\nFriday November 18 2pm-7pm ($5 admission\, 12 and under free) \n\n\n\nSaturday\, November 19\, 10am-6pm ($5 admission\, 12 and under free) \n\n\n\nSunday\, November 20\, 10am-4pm (Free admission all ages)
URL:https://palmermuseum.org/event/alaska-vintage-holiday-market-food-truck-fest/
LOCATION:Alaska
ORGANIZER;CN="Alaska Vintage Markets":MAILTO:akvintagemarkets@gmail.com
END:VEVENT
BEGIN:VEVENT
DTSTART;TZID=America/Anchorage:20221126T100000
DTEND;TZID=America/Anchorage:20221127T170000
DTSTAMP:20260424T015621
CREATED:20221005T222443Z
LAST-MODIFIED:20221005T222445Z
UID:12316-1669456800-1669568400@palmermuseum.org
SUMMARY:2022 Alaska State Fair Holiday Bazaar
DESCRIPTION:Please Visit the Alaska State Fair’s website for more details.
URL:https://palmermuseum.org/event/2022-alaska-state-fair-holiday-bazaar-2/
LOCATION:Alaska State Fairgrounds\, 2075 Glenn Highway\, Palmer\, Alaska\, 99645\, United States
END:VEVENT
END:VCALENDAR